10.160000
0
0
-10.160000
494473.096406
4541338.811425
