10.160000
0
0
-10.160000
318678.886533
4209748.324654
