10.160000
0
0
-10.160000
237764.600614
4378675.678226
