10.160000
0
0
-10.160000
495655.039960
4041802.004785
