10.160000
0
0
-10.160000
329623.552811
4653183.487351
